BEGIN:VCALENDAR
VERSION:2.0
PRODID:Events Booking
BEGIN:VEVENT
UID:69ae890184b2e
SUMMARY:Workshop Metabolic Peels in Zurich-Hands On
DESCRIPTION:Get ready for an unforgettable experience at the Workshop Metab
 olic Peels in Zürich on May 2nd! 
 This unique hands-on workshop\, led b
 y the brilliant inventors Dr. Alain Tenenbaum and Mr. Mauro Tiziani\, prom
 ises to be an enlightening event for all attendees. 
 Imagine learning ab
 out the latest and most effective Metabolic Peels in four languages - Engl
 ish\, German\, Italian\, and French!
  These peels are the ultimate game-
 changer in skincare\, offering immediate results for all skin types\, rega
 rdless of the season.
  Whether you're looking to rejuvenate your skin\, 
 combat acne\, or address light hyperchromies\, this workshop has got you c
 overed. Don't miss this golden opportunity to elevate your skincare knowle
 dge and techniques!
LOCATION:Asylstrasse\, Zurich\, 8032 Zurich\, Switzerland
DTSTART:20250502T120000Z
DTEND:20250502T160000Z
DTSTAMP:20250305T075650Z
ORGANIZER;CN=Contact Events:MAILTO:drpeeling@bluewin.ch
GEO:47.366671;8.56133
X-APPLE-STRUCTURED-LOCATION;VALUE=URI;X-ADDRESS=Asylstrasse\, Zurich\, 8032
  Zurich\, Switzerland;X-APPLE-RADIUS=72;X-TITLE=FaceClinic-Zürich:47.3666
 71;8.56133
END:VEVENT
END:VCALENDAR