BEGIN:VCALENDAR
VERSION:2.0
PRODID:Events Booking
BEGIN:VEVENT
UID:69ae88f60d997
SUMMARY:The 1-Day Endopeel Workshop in Zurich : Reshape muscles for a Perfe
 ct Summer Body 
DESCRIPTION:Discover the exclusive 1-day&nbsp\;Endopeel Workshop in Zurich 
 : Reshape muscles for a Perfect Summer Body&nbsp\;
 This extraordinary ev
 ent\, conducted in English\, German\, Italian\, and French\, offers a uniq
 ue opportunity to master the art of reshaping muscles in an isovolumetric 
 way for both the face and body.
 
 
 
 
 This workshop is your gatewa
 y to unlocking the secrets of sculpting muscles to perfection! 
 Imagine 
 being able to redefine areas like buttocks\, pectorals\, trapezius\, abs\,
  and even banish cellulite and bingo wings. Don't miss this incredible cha
 nce to learn and transform your patients' bodies just in time for the upco
 ming beach season!
 
 
 
 
LOCATION:Asylstrasse\, Zurich\, 8032 Zurich\, Switzerland
DTSTART:20250503T073000Z
DTEND:20250503T160000Z
DTSTAMP:20250305T074918Z
ORGANIZER;CN=Contact Events:MAILTO:drpeeling@bluewin.ch
GEO:47.366671;8.56133
X-APPLE-STRUCTURED-LOCATION;VALUE=URI;X-ADDRESS=Asylstrasse\, Zurich\, 8032
  Zurich\, Switzerland;X-APPLE-RADIUS=72;X-TITLE=FaceClinic-Zürich:47.3666
 71;8.56133
END:VEVENT
END:VCALENDAR