BEGIN:VCALENDAR
VERSION:2.0
PRODID:Events Booking
BEGIN:VEVENT
UID:69bab6b111ba4
SUMMARY:Endopeel Autumn Workshop Cellulite 2025
DESCRIPTION:
 &nbsp\;
 Workshop Introduction : Dont Join the Whale Club :
  Go to Endopeel Workshop or Stay Home.&nbsp\;
 Reclaiming the Golden Age 
 of Beauty — The Endopeel Revolution in Cellulite Treatment
 
 Once upo
 n a time\, in the golden glow of 1960s Hollywood\, beauty meant sculpted s
 ilhouettes\, smooth skin\, and timeless elegance. It was a dream of perfec
 t curves\, effortless poise\, and camera-ready confidence — a dream that
  today’s invasive\, ineffective\, and antiquated cellulite treatments ha
 ve failed to revive.
 
 
 Too many therapies still sold to physicians a
 nd patients alike belong to the Stone Age of aesthetic medicine: unscienti
 fic\, unreliable\, and often fueled more by marketing than by results. Fro
 m mechanical rollers to diluted injectables and overpriced gadgets\, the p
 romises are endless — but the outcomes? Consistently disappointing.
 

  
 Endopeel changes everything.
 
 
 This medical gluteoplasty and ant
 i-cellulite technique is grounded in science\, not gimmicks. It delivers v
 isible\, structural\, and sustainable results — without surgery\, withou
 t fillers\, and without excuses. Unlike prehistoric approaches\, Endopeel 
 does not mask the problem\; it treats the cause by redefining muscular ten
 sion and skin tone from within.
 
 
 In this workshop\, we go far beyon
 d superficial fixes. We bring back the dream — not the illusion. Because
  cellulite is not a mystery\, and beauty should not be a lie.
 
 
 Welc
 ome to the only cellulite protocol that truly works.
 
 
 Welcome to th
 e Endopeel era.
 
LOCATION:Asylstrasse\, Zurich\, 8032 Zurich\, Switzerland
DTSTART:20250920T073000Z
DTEND:20250921T100000Z
DTSTAMP:20250424T134215Z
ORGANIZER;CN=Contact Events:MAILTO:drpeeling@bluewin.ch
GEO:47.366671;8.56133
X-APPLE-STRUCTURED-LOCATION;VALUE=URI;X-ADDRESS=Asylstrasse\, Zurich\, 8032
  Zurich\, Switzerland;X-APPLE-RADIUS=72;X-TITLE=FaceClinic-Zürich:47.3666
 71;8.56133
END:VEVENT
END:VCALENDAR