BEGIN:VCALENDAR
VERSION:2.0
PRODID:Events Booking
BEGIN:VEVENT
UID:6999ff7e8efa0
SUMMARY:Panorama Peelings & Hyperchromies
DESCRIPTION:
LOCATION:62 Rue Amelot\, Paris\, 75011 Ile-de-France\, France
DTSTART:20260221T130000Z
DTEND:20260221T190000Z
DTSTAMP:20251107T101431Z
ORGANIZER;CN=Contact Events:MAILTO:drpeeling@bluewin.ch
GEO:48.860118;2.368214
X-APPLE-STRUCTURED-LOCATION;VALUE=URI;X-ADDRESS=62 Rue Amelot\, Paris\, 750
 11 Ile-de-France\, France;X-APPLE-RADIUS=72;X-TITLE=AIME Academy:48.860118
 ;2.368214
END:VEVENT
END:VCALENDAR